BEGIN:VCALENDAR
VERSION:2.0
PRODID:-//Affinity Planners - ECPv6.15.20//NONSGML v1.0//EN
CALSCALE:GREGORIAN
METHOD:PUBLISH
X-WR-CALNAME:Affinity Planners
X-ORIGINAL-URL:https://affinity-planners.com
X-WR-CALDESC:Events for Affinity Planners
REFRESH-INTERVAL;VALUE=DURATION:PT1H
X-Robots-Tag:noindex
X-PUBLISHED-TTL:PT1H
BEGIN:VTIMEZONE
TZID:Asia/Shanghai
BEGIN:STANDARD
TZOFFSETFROM:+0800
TZOFFSETTO:+0800
TZNAME:CST
DTSTART:20250101T000000
END:STANDARD
END:VTIMEZONE
BEGIN:VEVENT
DTSTART;TZID=Asia/Shanghai:20260423T193000
DTEND;TZID=Asia/Shanghai:20260423T203000
DTSTAMP:20260421T184517
CREATED:20260403T090929Z
LAST-MODIFIED:20260403T090929Z
UID:11983-1776972600-1776976200@affinity-planners.com
SUMMARY:Exclusive Webinar - 2026 Retirement Reset: Is Your Plan Ready?
DESCRIPTION:Singapore’s retirement landscape is changing rapidly.From the closure of the CPF Special Account (SA) for those aged 55 and above to the rising costs of long-term care\, the old way of planning may no longer be enough.\nIf your retirement plan was built on yesterday’s rules\, it may not withstand tomorrow’s realities.
URL:https://affinity-planners.com/event/exclusive-webinar-2026-retirement-reset-is-your-plan-ready-4/
END:VEVENT
BEGIN:VEVENT
DTSTART;TZID=Asia/Shanghai:20260429T193000
DTEND;TZID=Asia/Shanghai:20260429T210000
DTSTAMP:20260421T184517
CREATED:20260403T091328Z
LAST-MODIFIED:20260403T091328Z
UID:11985-1777491000-1777496400@affinity-planners.com
SUMMARY:Mandarin Webinar - 2026 Retirement Roadmap (华语线上分享会 - 2026 退休规划路线图)
DESCRIPTION:新加坡的 退休规划环境正在快速改变。\n从 55 岁之后 CPF Special Account（SA）的关闭，到 长期照护成本不断上升，过去那一套退休规划方式，可能已经不再足够。\n如果你的退休规划 还是建立在过去的规则之上，那它未必能够应对 未来现实的挑战。
URL:https://affinity-planners.com/event/mandarin-webinar-2026-retirement-roadmap-%e5%8d%8e%e8%af%ad%e7%ba%bf%e4%b8%8a%e5%88%86%e4%ba%ab%e4%bc%9a-2026-%e9%80%80%e4%bc%91%e8%a7%84%e5%88%92%e8%b7%af%e7%ba%bf%e5%9b%be-3/
END:VEVENT
BEGIN:VEVENT
DTSTART;TZID=Asia/Shanghai:20260506T193000
DTEND;TZID=Asia/Shanghai:20260506T210000
DTSTAMP:20260421T184517
CREATED:20260419T061214Z
LAST-MODIFIED:20260419T061257Z
UID:12083-1778095800-1778101200@affinity-planners.com
SUMMARY:Mandarin Webinar - Retirement Roadmap and ACP (华语线上分享会 - 退休规划路线以及预先护理计划)
DESCRIPTION:退休规划和预先护理计划，你准备好了吗？\n\n掌握 SA 关闭后的规划重点，\n长期照护缺口与被动收入策略\n为什么准备预先护理计划 （ACP）
URL:https://affinity-planners.com/event/mandarin-webinar-retirement-roadmap-and-acp-%e5%8d%8e%e8%af%ad%e7%ba%bf%e4%b8%8a%e5%88%86%e4%ba%ab%e4%bc%9a-%e9%80%80%e4%bc%91%e8%a7%84%e5%88%92%e8%b7%af%e7%ba%bf%e4%bb%a5%e5%8f%8a%e9%a2%84/
END:VEVENT
END:VCALENDAR